BEGIN:VCALENDAR
VERSION:2.0
PRODID:-//CNRS - ECPv6.15.14//NONSGML v1.0//EN
CALSCALE:GREGORIAN
METHOD:PUBLISH
X-ORIGINAL-URL:https://www.pouchet.cnrs.fr
X-WR-CALDESC:Évènements pour CNRS
REFRESH-INTERVAL;VALUE=DURATION:PT1H
X-Robots-Tag:noindex
X-PUBLISHED-TTL:PT1H
BEGIN:VTIMEZONE
TZID:Europe/Paris
BEGIN:DAYLIGHT
TZOFFSETFROM:+0100
TZOFFSETTO:+0200
TZNAME:CEST
DTSTART:20240331T010000
END:DAYLIGHT
BEGIN:STANDARD
TZOFFSETFROM:+0200
TZOFFSETTO:+0100
TZNAME:CET
DTSTART:20241027T010000
END:STANDARD
BEGIN:DAYLIGHT
TZOFFSETFROM:+0100
TZOFFSETTO:+0200
TZNAME:CEST
DTSTART:20250330T010000
END:DAYLIGHT
BEGIN:STANDARD
TZOFFSETFROM:+0200
TZOFFSETTO:+0100
TZNAME:CET
DTSTART:20251026T010000
END:STANDARD
BEGIN:DAYLIGHT
TZOFFSETFROM:+0100
TZOFFSETTO:+0200
TZNAME:CEST
DTSTART:20260329T010000
END:DAYLIGHT
BEGIN:STANDARD
TZOFFSETFROM:+0200
TZOFFSETTO:+0100
TZNAME:CET
DTSTART:20261025T010000
END:STANDARD
END:VTIMEZONE
BEGIN:VEVENT
DTSTART;TZID=Europe/Paris:20251107T090000
DTEND;TZID=Europe/Paris:20251107T180000
DTSTAMP:20260421T172308
CREATED:20251020T131334Z
LAST-MODIFIED:20251031T144703Z
UID:8889-1762506000-1762538400@www.pouchet.cnrs.fr
SUMMARY:Journée d'étude "Les (nouvelles) sexualités à l'ère du numérique"
DESCRIPTION:Les (nouvelles) sexualités à l’ère du numérique\n\n\n\nJournée d’étude\n\n\n\n\n\n\n\nCNRS Pouchet\, salle de conférence et visio\n\n\n\n\n\n\n\n\n\nPhoto : James Yarema @unsplash \n\n\n\n\n\n\n\n\n\n\n\n\n\nOrganisation\n\n\n\nGroupes de travail « Genre et espace numérique » et « Santé\, numérique et intelligence artificielle » \n\n\n\nCNRS (CIS)\, SciencesPo\, Université Sorbonne Paris Nord (UTRPP\, LabSIC) \n\n\n\n\n\n\n\n\n\nÀ propos\n\n\n\nInterdisciplinaire\, cette journée d’étude a pour objectif d’interroger\, depuis une approche interdisciplinaire et transdisciplinaire\, la reconfiguration des sexualités en matière de pratiques\, d’expositions\, de performances ou de réceptions… à l’ère numérique. Il s’agit notamment d’interroger les dés-inhibitions posées par l’écran en termes de sexualités\, les « nouvelles » pratiques engendrées par le numérique (sexting\, webcaming\, VR porn\, sextech…)\, les nouveaux espaces investis (p. ex. Only Fans)\, ou encore le rôle que jouent les plateformes et dispositifs numériques (caractéristiques techniques et algorithmiques..) dans les reconfigurations et constructions des sexualités. Ces questions seront envisagées en prêtant une attention particulière aux rapports sociaux (genre\, classe\, race\, âge…) et à la façon dont ils contribuent à façonner ou reconfigurer les sexualités dans les mondes numériques. \n\n\n\nProgramme\n\n\n\n9h00 à 9h20 – Accueil café9h20 à 9h30 – Mot de bienvenue \n\n\n\n9h30 à 12h30 – Session discutée par Hélène Bourdeloie\, LabSIC\, USPN \n\n\n\n\nSurmonter ses difficultés sexuelles par le récit de soi en public : enquêtes sur la création de contenu sexo sur les plateformes numériques\, Béatrice Damian-Gaillard\, Arènes\, Univ. de Rennes et Florian Vörös\, Geriico\, Univ. de Lille\n\n\n\nRien que des fans ? Analyse d’un travail sexuel numérique à l’ère de l’automatisation émotionnelle\, Pierre Brasseur\, Univ. Libre de Bruxelles\n\n\n\nArticulation des socialisations sexuelles à l’adolescence : appropriation et distanciation vis-à-vis des représentations médiatiques de la sexualité\, Julien J. Bourjier\, IRMÉCCEN\, Univ. Sorbonne nouvelle et LAP\, EHESS\n\n\n\n\n12h30 à 13h30 – Déjeuner \n\n\n\n13h30 à 15h30 – Session discutée par Cristina Lindenmeyer\, UTRPP\, USPN \n\n\n\n\nArchives communautaires et construction de l’identité sexuelle dans le BDSM queer masculin à l’ère du numérique\, Clément des Ligneris\, Univ. Paris 8\n\n\n\nGrindr : un théâtre numérique de la domination masculine\, Louis Royez David\, Univ. d’Angers\n\n\n\n\n15h30 à 15h45 – Pause café \n\n\n\n15h45 à 17h30 – Session discutée par Audrey Baneyx\, médialab\, Sciences Po \n\n\n\n\nEntre fantasme interdit et passage à l’acte : le rôle de la parole psychanalytique face à l’addiction à la pornographie infantile\, Natalia Travassos\, UTRPP\, USPN\n\n\n\nLa pornographie en ligne : initiation ou retrait ?\, Simruy Ikiz-Collino\, RPpsy Poitiers CAPS\, Univ. de Poitiers\n\n\n\n\n17h30 à 18h – Clôture de la journée par Cornelia Möser\, CNRS\, Cresppa-GTM. \n\n\n\n \n\n\n\nInscrivez-vous avant le 31 octobre 2025. \n\n\n\n\n\n\n\n\n\n\n\n\n\n\n\n\n\n\n\n\n\n\n\n\n\n\n\n\nInscription
URL:https://www.pouchet.cnrs.fr/event/journee-detude-les-nouvelles-sexualites-a-lere-du-numerique/
LOCATION:Site Pouchet (CNRS)\, 59 rue Pouchet\, Paris\, 75017\, France
CATEGORIES:En ligne,Hybride,Présentiel
ATTACH;FMTTYPE=image/jpeg:https://www.pouchet.cnrs.fr/wp-content/uploads/2025/10/james-yarema-E-CdfbrnnFs-unsplash_1200x720.jpg
ORGANIZER;CN="Centre Internet et Soci%C3%A9t%C3%A9 (CIS)":MAILTO:cis@cnrs.fr
END:VEVENT
BEGIN:VEVENT
DTSTART;TZID=Europe/Paris:20251117T140000
DTEND;TZID=Europe/Paris:20251117T150000
DTSTAMP:20260421T172308
CREATED:20251031T144610Z
LAST-MODIFIED:20251031T144639Z
UID:8911-1763388000-1763391600@www.pouchet.cnrs.fr
SUMMARY:Brèves de science "Handicap et travail"
DESCRIPTION:Brèves de science « Handicap et travail »\n\n\n\nMicro-conférences\n\n\n\n\n\n\n\nSalle de conférence (interprétation LSF) + Zoom + Replay Youtube\n\n\n\n\n\n\n\n\n\n© Clémence DROUOT / ISIR / CNRS Images \n\n\n\n\n\n\n\n\n\n\n\n\n\nOrganisation\n\n\n\nPPR Autonomie\, Direction des ressources humaines du CNRS\, Délégation Paris-Centre \n\n\n\n\n\n\n\n\n\nAlors que les défis sociaux sont majeurs dans les domaines du handicap et du vieillissement\, les connaissances issues de la recherche sont encore trop peu partagées et discutées avec celles et ceux auxquels ils peuvent être utiles. Dans ce contexte\, le PPR Autonomie a lancé ses Brèves de sciences\, un format de médiation scientifique pour soutenir le dialogue science-société. \n\n\n\n\n\n\n\nMicro-conférences\n\n\n\nLe format des Brèves de sciences propose l’organisation d’une séquence d’1h dédiée au partage des connaissances scientifiques dans le cadre d’un évènement. Trois chercheuses et chercheurs relèvent le défi de partager en 10min chacun\, dans le cadre d’une micro-conférence\, les principaux résultats de leur recherche. Ces présentations sont suivies d’un temps d’échange avec le public. \n\n\n\nLes Brèves de science sont organisées en partenariat entre le PPR Autonomie et une organisation intéressée par les sujets du handicap et du grand âge (association\, fondation\, institutions publiques\, etc.). \n\n\n\nLes micros-conférences sont filmées\, et disponibles à la rediffusion sur la chaîne YouTube du PPR Autonomie.  \n\n\n\nVous êtes une chercheuse\, un chercheur ou une organisation intéressée par les enjeux du handicap et du vieillissement ? Vous souhaitez faire dialoguer science et société ? \n\n\n\nFaites-nous part de votre intérêt à participer ou organiser avec nous une brève de sciences dans le cadre d’un de vos évènements ! \n\n\n\n\n\n\n\n17/11 – Handicap et travail\n\n\n\nPourquoi le handicap est-il avant tout une histoire de travail ? Avez-vous déjà entendu parler du crip time ? Comment penser un environnement de travail accessible à toutes et tous ? \n\n\n\nTrois chercheuses relèvent le défi de partager leurs travaux  en 10 minutes chrono… puis de répondre à vos questions ! \n\n\n\nAvec les communications de : \n\n\n\n\nMarie Assaf\, docteure en études politiques et responsable de l’animation scientifique au PPR Autonomie.\n\n\n\nMarion Ink\, sociologue\, chargée de recherche à l’INSERM.\n\n\n\nRachel Le Marois\, doctorante à Sciences Po Paris en sociologie et à l’Emlyon business school en gestion.\n\n\n\n\nRendez-vous le lundi 17 novembre de 14h à 15h dans l’auditorium du site Pouchet du CNRS (59 rue Pouchet – 75017 Paris) et en ligne. \n\n\n\nAccessibilité : Interprétation LSF \n\n\n\nÀ noter : \n\n\n\n\nEn présentiel\, la discussion pourra être prolongée de manière informelle autour d’un café.\n\n\n\nNous proposons également de 15h30 à 17h un temps d’échange autour du guide sur « l’accessibilité de et dans la recherche » réalisée par un groupe de travail coordonné par le Programme prioritaire de recherche (PPR) Autonomie [à confirmer selon le nombre de personnes intéressées].\n\n\n\nUn espace de travail sera mis à disposition des personnes souhaitant rester travailler sur le site Pouchet.\n\n\n\n\nS’inscrire via le formulaire en ligne \n\n\n\nPour une inscription par téléphone\, contacter Claudia Giudicelli-Marquet au 06 03 27 19 48. \n\n\n\nUne séance proposée par le PPR Autonomie\, en partenariat avec la direction des ressources humaines du CNRS et le service ressources humaines de la Délégation Paris-Centre du CNRS dans le cadre de la semaine pour l’emploi des personnes handicapées (SEEPH). \n\n\n\n \n\n\n\n\n\n\n\n\n\n\n\n\n\n\n\n\n\n\n\n\n\n\n\n\n\n\n\n\nEn savoir plus\n\n\n\nInscription
URL:https://www.pouchet.cnrs.fr/event/breves-de-science-handicap-et-travail/
LOCATION:Site Pouchet (CNRS)\, 59 rue Pouchet\, Paris\, 75017\, France
CATEGORIES:En ligne,Hybride,Présentiel
ATTACH;FMTTYPE=image/jpeg:https://www.pouchet.cnrs.fr/wp-content/uploads/2025/10/cnrs_20210137_0009_web.jpg
END:VEVENT
END:VCALENDAR