BEGIN:VCALENDAR
VERSION:2.0
PRODID:-//CNRS - ECPv6.15.14//NONSGML v1.0//EN
CALSCALE:GREGORIAN
METHOD:PUBLISH
X-ORIGINAL-URL:https://www.pouchet.cnrs.fr
X-WR-CALDESC:Évènements pour CNRS
REFRESH-INTERVAL;VALUE=DURATION:PT1H
X-Robots-Tag:noindex
X-PUBLISHED-TTL:PT1H
BEGIN:VTIMEZONE
TZID:Europe/Paris
BEGIN:DAYLIGHT
TZOFFSETFROM:+0100
TZOFFSETTO:+0200
TZNAME:CEST
DTSTART:20230326T010000
END:DAYLIGHT
BEGIN:STANDARD
TZOFFSETFROM:+0200
TZOFFSETTO:+0100
TZNAME:CET
DTSTART:20231029T010000
END:STANDARD
BEGIN:DAYLIGHT
TZOFFSETFROM:+0100
TZOFFSETTO:+0200
TZNAME:CEST
DTSTART:20240331T010000
END:DAYLIGHT
BEGIN:STANDARD
TZOFFSETFROM:+0200
TZOFFSETTO:+0100
TZNAME:CET
DTSTART:20241027T010000
END:STANDARD
BEGIN:DAYLIGHT
TZOFFSETFROM:+0100
TZOFFSETTO:+0200
TZNAME:CEST
DTSTART:20250330T010000
END:DAYLIGHT
BEGIN:STANDARD
TZOFFSETFROM:+0200
TZOFFSETTO:+0100
TZNAME:CET
DTSTART:20251026T010000
END:STANDARD
END:VTIMEZONE
BEGIN:VEVENT
DTSTART;TZID=Europe/Paris:20240610T103000
DTEND;TZID=Europe/Paris:20240610T113000
DTSTAMP:20260420T154127
CREATED:20240529T132941Z
LAST-MODIFIED:20240529T151640Z
UID:7960-1718015400-1718019000@www.pouchet.cnrs.fr
SUMMARY:Projection - Les filles c'est fait pour faire l'amour
DESCRIPTION:Les filles c’est fait pour faire l’amour\n\n\n\nProjection et discussion autour d’un court métrage d’animation\n\n\n\n\n\n\n\nSite Pouchet\, salle de conférenceEntrée libre et gratuite \n\n\n\n\n\n\n\n\n\n\n\n\n\n\n\n\n\n\n\n\nOrganisateur\n\n\n\nThomas Guiffard-Colombeau (CNRS)\, ingénieur audiovisuel \n\n\n\n\n\n\n\n\n\nDiscutante\n\n\n\nCécile Thomé (Ined)\,sociologue de la sexualité \n\n\n\n\n\n\n\n\n\nInvitées\n\n\n\nLes autrices du film :Jeanne Paturle et Cécile Rousset\, cinéastesJeanne Drouet (CNRS\, Centre Max Weber)\, anthropologueEmmanuelle Santelli (CNRS\, Centre Max Weber)\, sociologue \n\n\n\n\n\n\nProgramme\n\n\n\nVenez assister à la projection de ce court métrage d’animation (16′) qui traite de la construction de la sexualité féminine. Elle sera suivie d’une discussion autour de la réalisation de ce film d’animation sociologique\, en présence des autrices. \n\n\n\n\n\n\n\nSynopsis\n\n\n\nDans le bureau d’une sociologue\, trois femmes évoquent tour à tour leur vie sexuelle. Leurs récits se mêlent et nous portent vers des chemins d’émancipation parfois cocasses\, parfois difficiles. Se trace ainsi un parcours sensible\, de femme désirée à femme désirante. \n\n\n\nCo-production : Beppie Films et Girelle productionAvec la participation de France Télévisions\, le soutien du CNC\, de Pictanovo\, de CICLIC et de la ville de Paris. \n\n\n\n\n\n\n\n\n\n\nDécouvrir la démarche de création
URL:https://www.pouchet.cnrs.fr/event/les-filles-cest-fait-pour-faire-lamour/
LOCATION:Site Pouchet (CNRS)\, 59 rue Pouchet\, Paris\, 75017\, France
CATEGORIES:Présentiel
ATTACH;FMTTYPE=image/jpeg:https://www.pouchet.cnrs.fr/wp-content/uploads/2024/05/LES-FILLES.jpg
END:VEVENT
END:VCALENDAR