BEGIN:VCALENDAR
VERSION:2.0
PRODID:-//CNRS - ECPv6.15.14//NONSGML v1.0//EN
CALSCALE:GREGORIAN
METHOD:PUBLISH
X-ORIGINAL-URL:https://www.pouchet.cnrs.fr
X-WR-CALDESC:Évènements pour CNRS
REFRESH-INTERVAL;VALUE=DURATION:PT1H
X-Robots-Tag:noindex
X-PUBLISHED-TTL:PT1H
BEGIN:VTIMEZONE
TZID:Europe/Paris
BEGIN:DAYLIGHT
TZOFFSETFROM:+0100
TZOFFSETTO:+0200
TZNAME:CEST
DTSTART:20230326T010000
END:DAYLIGHT
BEGIN:STANDARD
TZOFFSETFROM:+0200
TZOFFSETTO:+0100
TZNAME:CET
DTSTART:20231029T010000
END:STANDARD
BEGIN:DAYLIGHT
TZOFFSETFROM:+0100
TZOFFSETTO:+0200
TZNAME:CEST
DTSTART:20240331T010000
END:DAYLIGHT
BEGIN:STANDARD
TZOFFSETFROM:+0200
TZOFFSETTO:+0100
TZNAME:CET
DTSTART:20241027T010000
END:STANDARD
BEGIN:DAYLIGHT
TZOFFSETFROM:+0100
TZOFFSETTO:+0200
TZNAME:CEST
DTSTART:20250330T010000
END:DAYLIGHT
BEGIN:STANDARD
TZOFFSETFROM:+0200
TZOFFSETTO:+0100
TZNAME:CET
DTSTART:20251026T010000
END:STANDARD
END:VTIMEZONE
BEGIN:VEVENT
DTSTART;TZID=Europe/Paris:20240404T103000
DTEND;TZID=Europe/Paris:20240404T120000
DTSTAMP:20260422T153841
CREATED:20240307T132605Z
LAST-MODIFIED:20240307T132954Z
UID:7667-1712226600-1712232000@www.pouchet.cnrs.fr
SUMMARY:Pensée sur le long terme et long-termisme : dans la Baie de San Francisco
DESCRIPTION:Pensée sur le long terme et long-termisme : visions du futur dans la Baie de San Francisco\n\n\n\nSéminaire « Capitalisme numérique et idéologies »\n\n\n\n\n\n\n\nVisioconférence Zoom \n\n\n\n\n\n\n\n\n\nOrganisateurs\n\n\n\nOlivier Alexandre\,Sociologue\, chargé de recherche CNRS\, Centre Internet et Société \n\n\n\nBenjamin Loveluck\, Maître de conférences\, Télécom Paris\, Chercheur associé au CERSA (CNRS/Université Panthéon-Assas) \n\n\n\nIntervenante\n\n\n\nJulie Momméja\,Université de Lorraine/IDEA \n\n\n\n \n\n\n\n\n\nÀ propos du séminaire\n\n\n\nDepuis son apparition\, Internet a porté les espoirs d’un nouveau progrès social et politique (Benkler\, 2006 ; Cardon\, 2010). Il est en outre devenu aujourd’hui l’un des foyers majeurs de l’économie mondiale\, cristallisant les enjeux autour de sa régulation\, des processus de captation de valeur et des inégalités produites. Implantés dans les différents ​hubs technologiques du monde\, ses principaux acteurs sont envisagés comme les promoteurs d’une nouvelle forme de capitalisme (Zukerfeld\, 2017)\, voire d’une menace pour la démocratie (Morozov\, 2011 et 2013). Leur hégémonie\, identifiée à l’essor de la ​Silicon Valley (Lecuyer\, 2006)\, appellent un renouvellement des outils et modes d’appréhension classiques. \n\n\n\nLe schème de la « société de l’information » qui a accompagné l’avènement de l’économie post-industrielle (Bell\, 1973)\, avait déjà fait l’objet d’un vaste ensemble d’analyses et de critiques. Celles-ci ont porté aussi bien sur le déplacement de la création de valeur vers le secteur tertiaire\, sur les transformations du système de production et les nouvelles formes de circulation du capital dans le contexte des réseaux d’information (Castells\, 2001 ; Schiller\, 1999)\, ou encore sur les mutations dans les discours et les pratiques caractérisant ce « nouvel esprit du capitalisme » (Boltanski et Chiapello\, 1999). \n\n\n\nLire la suite\nLes travaux plus récents consacrés à la critique du capitalisme numérique ont notamment cherché à réactiver les liens établis entre travail\, exploitation et aliénation\, à travers une théorisation d’un capitalisme cognitif (Moulier-Boutang\, 2008)\, de la surveillance (Zuboff\, 2019) ou encore du microtravail (Casilli\, 2019). Ces tentatives de refondation posent en creux la question du brouillage des frontières traditionnelles entre travail et valeur situées au cœur de la pensée économique classique et néoclassique. \n\n\n\nOr\, à contre-pied de ses formes préalables\, le capitalisme numérique présente un certain nombre d’anomalies à cet égard. En premier lieu\, il ne repose pas sur un processus systématique de marchandisation (culture de la gratuité\, économie du partage). L’exclusivité des grandes entreprises y est relative (cf. « l’écosystème des startups »). La toute puissance du manageur et des grands patrons y laisse souvent place aux explorations des développeurs et aux prises d’initiative des entrepreneurs. La propriété privée n’y va pas de soi comme l’illustre l’histoire du logiciel libre (Broca\, 2013)\, tandis que l’exploitation prend des formes plus ambivalentes sous l’effet de l’autonomie du travail\, de la ​gamification e​ t de la libre contractualisation. Enfin\, le développement des organisations repose largement sur une économie d’investissements marquée par le rôle prépondérant des ​venture capitalists (Ferrari\, Granovetter\, 2009). Si le capital y est donc toujours central\, c’est le plus souvent sous des formes recomposées et mis en circulation via des chaînes de valeur différées\, extensibles\, décentralisées\, fondées sur des relations d’encastrement et des réseaux d’interconnaissances. \n\n\n\nLa structure de ce système productif repose ainsi sur une financiarisation des cycles d’innovation\, l’encastrement entre nouvelle et ancienne économie\, des techniques managériales\, le développement de la contractualisation ou du travail libre\, qui rendent l’avenir de la protection sociale particulièrement incertain (Colin\, 2018). À ce titre\, un certain nombre d’enjeux peuvent être dégagés\, qu’il s’agira plus spécifiquement de mettre en lumière : \n\n\n\n\nla négociation de faibles contraintes juridiques et fiscales par les grandes entreprises du numérique (fiscalité\, droit du travail\, contentieux etc.) ;\n\n\n\n\n\nles nouvelles formes d’organisation du travail que recouvre le « capitalisme de plateformes »\, associant des formes d’hypersalariat et un processus de précarisation/destruction d’emplois ;\n\n\n\n\n\nles entraves éventuelles à l’émergence de modèles alternatifs de propriété\, d’échange\, de production et de redistribution (communs\, coopérativisme\, makers\, cryptomonnaies\, etc.) ou bien leur réintégration dans le fonctionnement général du capitalisme numérique ;\n\n\n\n\n\nle renversement de la norme de la vie privée à travers la question de la collecte des données et du traitement de l’information.\n\n\n\n\nDeuxièmement\, on apportera une attention particulière à l’homogénéité des systèmes narratifs (« startup Nation »\, théorie de la disruption\, etc.). En effet\, une série de discours sont ainsi produits afin d’accompagner\, justifier\, ou motiver des transformations technologiques – sans que la nature politique de ces dernières ne soit toujours pleinement reconnue. Opéré par un petit nombre d’acteurs\, ce travail idéologique vise à légitimer une « révolution numérique » à travers la production de scénarios et cadrages narratifs. Il est ainsi devenu coutume d’associer l’essor d’Internet à une forme d’« idéologie californienne »\, recouvrant confusément libertarianisme\, déterminisme technologique\, transhumanisme\, etc. (Barbrook et Cameron\, 1996 ; Turner 2006). Plus généralement\, à mesure que ces nouvelles formes de capitalisme se sont développées\, le libéralisme s’est profondément transformé et renouvelé et constitue désormais\, sous des déclinaisons diverses\, un cadre de pensée prépondérant (Loveluck\, 2015). \n\n\n\nCes discours tendent paradoxalement à masquer leur dénominateur commun\, celui d’une anthropologie philosophique adossée à la microéconomie\, aux sciences cognitives et à des formes de psychologie déterministe. Ce faisant\, ils naturalisent des points saillants relatifs à la manière dont la subjectivité est intégrée au système productif\, à l’image du mouvement du quantified self. \n\n\n\n\n \n\n\n\n\n\n\n\n\n\n\n\n\n\n\nPlus d’informations\n\n\n\nInscription
URL:https://www.pouchet.cnrs.fr/event/pensee-sur-le-long-terme-et-long-termisme-dans-la-baie-de-san-francisco/
CATEGORIES:En ligne
END:VEVENT
END:VCALENDAR