BEGIN:VCALENDAR
VERSION:2.0
PRODID:-//CNRS - ECPv6.15.14//NONSGML v1.0//EN
CALSCALE:GREGORIAN
METHOD:PUBLISH
X-ORIGINAL-URL:https://www.pouchet.cnrs.fr
X-WR-CALDESC:Évènements pour CNRS
REFRESH-INTERVAL;VALUE=DURATION:PT1H
X-Robots-Tag:noindex
X-PUBLISHED-TTL:PT1H
BEGIN:VTIMEZONE
TZID:Europe/Paris
BEGIN:DAYLIGHT
TZOFFSETFROM:+0100
TZOFFSETTO:+0200
TZNAME:CEST
DTSTART:20230326T010000
END:DAYLIGHT
BEGIN:STANDARD
TZOFFSETFROM:+0200
TZOFFSETTO:+0100
TZNAME:CET
DTSTART:20231029T010000
END:STANDARD
BEGIN:DAYLIGHT
TZOFFSETFROM:+0100
TZOFFSETTO:+0200
TZNAME:CEST
DTSTART:20240331T010000
END:DAYLIGHT
BEGIN:STANDARD
TZOFFSETFROM:+0200
TZOFFSETTO:+0100
TZNAME:CET
DTSTART:20241027T010000
END:STANDARD
BEGIN:DAYLIGHT
TZOFFSETFROM:+0100
TZOFFSETTO:+0200
TZNAME:CEST
DTSTART:20250330T010000
END:DAYLIGHT
BEGIN:STANDARD
TZOFFSETFROM:+0200
TZOFFSETTO:+0100
TZNAME:CET
DTSTART:20251026T010000
END:STANDARD
END:VTIMEZONE
BEGIN:VEVENT
DTSTART;TZID=Europe/Paris:20240405T100000
DTEND;TZID=Europe/Paris:20240405T120000
DTSTAMP:20260420T153917
CREATED:20240322T115412Z
LAST-MODIFIED:20240322T115412Z
UID:7725-1712311200-1712318400@www.pouchet.cnrs.fr
SUMMARY:Conférence #7 "Zola et le travail du scénario"
DESCRIPTION:« Zola et le travail du scénario » avec le scénariste Guy-Patrick Sainderichin\n\n\n\n\n\n\n\nMaison de la Recherche de Paris 3\, Salle du Conseil+ Visioconférence ZoomID de réunion: 981 2571 1728Code secret: d1RyNQ \n\n\n\n\n\n\n\n\n\n\n\n\n\n\n\n\nPlus d’informations\n\n\n\nRejoindre le Zoom
URL:https://www.pouchet.cnrs.fr/event/conference-7-zola-et-le-travail-du-scenario/
LOCATION:Sorbonne Nouvelle – Maison de la Recherche\, 4 rue des Irlandais\, Paris\, 75005\, France
CATEGORIES:En ligne,Hybride,Présentiel
ATTACH;FMTTYPE=image/jpeg:https://www.pouchet.cnrs.fr/wp-content/uploads/2024/03/e-mile-zola.jpg
ORGANIZER;CN="Institut des textes et&nbsp%3Bmanuscrits modernes (ITEM)":MAILTO:item@ens.fr
END:VEVENT
END:VCALENDAR